BEGIN:VCALENDAR
VERSION:2.0
PRODID:-//IPTh – Institut für Pferdegestützte Therapie - ECPv5.3.1.1//NONSGML v1.0//EN
CALSCALE:GREGORIAN
METHOD:PUBLISH
X-WR-CALNAME:IPTh – Institut für Pferdegestützte Therapie
X-ORIGINAL-URL:https://www.ipth.de
X-WR-CALDESC:Veranstaltungen für IPTh – Institut für Pferdegestützte Therapie
BEGIN:VTIMEZONE
TZID:Europe/Berlin
BEGIN:DAYLIGHT
TZOFFSETFROM:+0100
TZOFFSETTO:+0200
TZNAME:CEST
DTSTART:20260329T010000
END:DAYLIGHT
BEGIN:STANDARD
TZOFFSETFROM:+0200
TZOFFSETTO:+0100
TZNAME:CET
DTSTART:20261025T010000
END:STANDARD
END:VTIMEZONE
BEGIN:VEVENT
DTSTART;TZID=Europe/Berlin:20260704T093000
DTEND;TZID=Europe/Berlin:20260705T173000
DTSTAMP:20260420T081545
CREATED:20221001T113907Z
LAST-MODIFIED:20251217T124059Z
UID:5853-1783157400-1783272600@www.ipth.de
SUMMARY:Wenn Pferde flüstern
DESCRIPTION:[vc_row][vc_column][/vc_column][/vc_row][vc_row type=”vc_default”][vc_column][vc_column_text]Achtsamer Umgang mit dem Pferd in Pferdegestützten Gruppenangeboten für Erwachsene\nEs gibt nur wenige pferdegestützte Angeboten\, in denen Erwachsene oder ältere Jugendliche den Umgang mit Pferden angstfrei und in ruhiger und entspannterAtmosphäre erklärt bekommen und sich ausprobieren können. Angestoßen von erwachsenen Klienten in der Reittherapie und Eltern von Therapiekindern\, die mehr über den Umgang mit Pferden lernen\nwollten\, wurde das Kursformat entwickelt.\nDas Seminar richtet sich an Anbieter pferdegestützter Interventionen\, die ein Gruppenangebot für Erwachsenen erweitern möchten.\nSie erlernen das Kursformat “Wenn Pferde flüstern” und können es danach eigenständig durchführen. \n Inhalt: \n• Achtsames Bürsten und Pflegen\n• Führen und Folgen\n• Der Tanz beginnt: Freiarbeit mit dem Pferd – Begegnung findet da statt\, wo sich unsere Grenzen berühren\n• Herdenleben: vom Individuum zur Gruppe\n• Getragen werden und die Zügel in der Hand halten: erste Schritte zum Reiten \n• theoretische Einführungen\n• praktisches Erleben der Inhalte mit dem Schweprunkt der eigenständigen Durchführung\n• Erarbeitung eines Settings für fünf Kursblöcke und Umsetzung im eigenen Betrieb[/vc_column_text][/vc_column][/vc_row]
URL:https://www.ipth.de/seminar/pferdefluestern_25-pie-2026/
LOCATION:Karlsruhe\, Karlsruhe\, 76189\, Deutschland
CATEGORIES:Offene Seminare,Selbsterfahrung,Seminare
ORGANIZER;CN="IPTh%20-%20Institut%20f%C3%BCr%20pferdegest%C3%BCtzte%20Therapie":MAILTO:info@ipth.de
END:VEVENT
END:VCALENDAR